BEGIN:VCALENDAR
PRODID:-//github.com/rianjs/ical.net//NONSGML ical.net 4.0//EN
VERSION:2.0
BEGIN:VEVENT
DESCRIPTION:2006 Annual Meeting by the American Academy of Neurology\n\nTi
 tle: Scientific Program Highlights Plenary\n\nAccess URL: https://www.aan
 .com/msa/Public/Events/GetEventURL/864\n\nLearn More About This Event: ht
 tps://www.aan.com/msa/Public/Events/Details/864
DTEND:20060407T181500
DTSTAMP:20260424T122032Z
DTSTART:20060407T171500
LOCATION:https://www.aan.com/msa/Public/Events/GetEventURL/864
SEQUENCE:0
SUMMARY:AAN: Scientific Program Highlights Plenary
UID:fe63b90d-bde7-4211-906d-b006c7da52a2
END:VEVENT
END:VCALENDAR
