BEGIN:VCALENDAR
PRODID:-//github.com/rianjs/ical.net//NONSGML ical.net 4.0//EN
VERSION:2.0
BEGIN:VEVENT
DESCRIPTION:2006 Annual Meeting by the American Academy of Neurology\n\nTi
 tle: Controversial Issues In Practice: From Whining To Winning: The Econo
 mics of Neurology Practice and the AAN Battle Plan to Save the Specialty\
 n\nAccess URL: https://www.aan.com/msa/Public/Events/GetEventURL/865\n\nL
 earn More About This Event: https://www.aan.com/msa/Public/Events/Details
 /865
DTEND:20060405T181500
DTSTAMP:20260424T122032Z
DTSTART:20060405T171500
LOCATION:https://www.aan.com/msa/Public/Events/GetEventURL/865
SEQUENCE:0
SUMMARY:AAN: Controversial Issues In Practice: From Whining To Winning: Th
 e Economics of Neurology Practice and the AAN Battle Plan to Save the Spe
 cialty
UID:2441a639-ea38-4556-8925-a490b418b1b6
END:VEVENT
END:VCALENDAR
