BEGIN:VCALENDAR
PRODID:-//github.com/rianjs/ical.net//NONSGML ical.net 4.0//EN
VERSION:2.0
BEGIN:VEVENT
DESCRIPTION:2016 Fall Conference by the American Academy of Neurology\n\nT
 itle: Neurology Update VI\n\nAccess URL: https://www.aan.com/msa/Public/E
 vents/GetEventURL/87\n\nLearn More About This Event: https://www.aan.com/
 msa/Public/Events/Details/87
DTEND:20161016T104500
DTSTAMP:20260424T053926Z
DTSTART:20161016T091500
LOCATION:https://www.aan.com/msa/Public/Events/GetEventURL/87
SEQUENCE:0
SUMMARY:AAN: Neurology Update VI
UID:92e0768e-4349-400e-94ad-64cd8dd38ae7
END:VEVENT
END:VCALENDAR
