BEGIN:VCALENDAR
PRODID:-//github.com/rianjs/ical.net//NONSGML ical.net 4.0//EN
VERSION:2.0
BEGIN:VTIMEZONE
TZID:Eastern Standard Time
X-LIC-LOCATION:America/New_York
BEGIN:STANDARD
DTSTART:20241103T020000
RRULE:FREQ=YEARLY;BYDAY=1SU;BYMONTH=11
TZNAME:EST
TZOFFSETFROM:-0400
TZOFFSETTO:-0500
END:STANDARD
BEGIN:DAYLIGHT
DTSTART:20250309T020000
RRULE:FREQ=YEARLY;BYDAY=2SU;BYMONTH=3
TZNAME:EDT
TZOFFSETFROM:-0500
TZOFFSETTO:-0400
END:DAYLIGHT
END:VTIMEZONE
BEGIN:VEVENT
DESCRIPTION:2019 Annual Meeting by the American Academy of Neurology\n\nTi
 tle: NIH Funding and Professional Development Opportunities for Diverse R
 esearchers\n\nAccess URL: https://www.aan.com/msa/Public/Events/GetEventU
 RL/8770\n\nLearn More About This Event: https://www.aan.com/msa/Public/Ev
 ents/Details/8770
DTEND;TZID=Eastern Standard Time:20190507T141500
DTSTAMP:20260424T053959Z
DTSTART;TZID=Eastern Standard Time:20190507T134500
LOCATION:https://www.aan.com/msa/Public/Events/GetEventURL/8770
SEQUENCE:0
SUMMARY:AAN: NIH Funding and Professional Development Opportunities for Di
 verse Researchers
UID:dc665d7e-e19d-4913-bb08-6186eb387c1c
END:VEVENT
END:VCALENDAR
