BEGIN:VCALENDAR
PRODID:-//github.com/rianjs/ical.net//NONSGML ical.net 4.0//EN
VERSION:2.0
BEGIN:VTIMEZONE
TZID:Eastern Standard Time
X-LIC-LOCATION:America/New_York
BEGIN:STANDARD
DTSTART:20241103T020000
RRULE:FREQ=YEARLY;BYDAY=1SU;BYMONTH=11
TZNAME:EST
TZOFFSETFROM:-0400
TZOFFSETTO:-0500
END:STANDARD
BEGIN:DAYLIGHT
DTSTART:20250309T020000
RRULE:FREQ=YEARLY;BYDAY=2SU;BYMONTH=3
TZNAME:EDT
TZOFFSETFROM:-0500
TZOFFSETTO:-0400
END:DAYLIGHT
END:VTIMEZONE
BEGIN:VEVENT
DESCRIPTION:2019 Annual Meeting by the American Academy of Neurology\n\nTi
 tle: Interventional Neurology: Training and Practice \n\nAccess URL: http
 s://www.aan.com/msa/Public/Events/GetEventURL/8798\n\nLearn More About Th
 is Event: https://www.aan.com/msa/Public/Events/Details/8798
DTEND;TZID=Eastern Standard Time:20190504T154500
DTSTAMP:20260424T054137Z
DTSTART;TZID=Eastern Standard Time:20190504T150000
LOCATION:https://www.aan.com/msa/Public/Events/GetEventURL/8798
SEQUENCE:0
SUMMARY:AAN: Interventional Neurology: Training and Practice
UID:2d55aec2-1885-4a4c-b795-05f816fdc6c8
END:VEVENT
END:VCALENDAR
