BEGIN:VCALENDAR
PRODID:-//github.com/rianjs/ical.net//NONSGML ical.net 4.0//EN
VERSION:2.0
BEGIN:VTIMEZONE
TZID:Eastern Standard Time
X-LIC-LOCATION:America/New_York
BEGIN:STANDARD
DTSTART:20241103T020000
RRULE:FREQ=YEARLY;BYDAY=1SU;BYMONTH=11
TZNAME:EST
TZOFFSETFROM:-0400
TZOFFSETTO:-0500
END:STANDARD
BEGIN:DAYLIGHT
DTSTART:20250309T020000
RRULE:FREQ=YEARLY;BYDAY=2SU;BYMONTH=3
TZNAME:EDT
TZOFFSETFROM:-0500
TZOFFSETTO:-0400
END:DAYLIGHT
END:VTIMEZONE
BEGIN:VEVENT
DESCRIPTION:2019 Annual Meeting by the American Academy of Neurology\n\nTi
 tle: Neurohospitalist Models of Care in an Academic Department: Opportuni
 ties and Challenges\n\nAccess URL: https://www.aan.com/msa/Public/Events/
 GetEventURL/8912\n\nLearn More About This Event: https://www.aan.com/msa/
 Public/Events/Details/8912
DTEND;TZID=Eastern Standard Time:20190509T164500
DTSTAMP:20260424T053957Z
DTSTART;TZID=Eastern Standard Time:20190509T160000
LOCATION:https://www.aan.com/msa/Public/Events/GetEventURL/8912
SEQUENCE:0
SUMMARY:AAN: Neurohospitalist Models of Care in an Academic Department: Op
 portunities and Challenges
UID:418d7b47-7834-45bc-8546-b7364f45138d
END:VEVENT
END:VCALENDAR
