BEGIN:VCALENDAR
PRODID:-//github.com/rianjs/ical.net//NONSGML ical.net 4.0//EN
VERSION:2.0
BEGIN:VTIMEZONE
TZID:Eastern Standard Time
X-LIC-LOCATION:America/New_York
BEGIN:STANDARD
DTSTART:20241103T020000
RRULE:FREQ=YEARLY;BYDAY=1SU;BYMONTH=11
TZNAME:EST
TZOFFSETFROM:-0400
TZOFFSETTO:-0500
END:STANDARD
BEGIN:DAYLIGHT
DTSTART:20250309T020000
RRULE:FREQ=YEARLY;BYDAY=2SU;BYMONTH=3
TZNAME:EDT
TZOFFSETFROM:-0500
TZOFFSETTO:-0400
END:DAYLIGHT
END:VTIMEZONE
BEGIN:VEVENT
DESCRIPTION:2019 Annual Meeting by the American Academy of Neurology\n\nTi
 tle: Trainee Experience: Navigating the AAN and Your Career\n\nAccess URL
 : https://www.aan.com/msa/Public/Events/GetEventURL/8931\n\nLearn More Ab
 out This Event: https://www.aan.com/msa/Public/Events/Details/8931
DTEND;TZID=Eastern Standard Time:20190505T173000
DTSTAMP:20260424T053953Z
DTSTART;TZID=Eastern Standard Time:20190505T170000
LOCATION:https://www.aan.com/msa/Public/Events/GetEventURL/8931
SEQUENCE:0
SUMMARY:AAN: Trainee Experience: Navigating the AAN and Your Career
UID:4e18a19c-7bba-41aa-acff-ec19b0067cf8
END:VEVENT
END:VCALENDAR
