BEGIN:VCALENDAR
PRODID:-//github.com/rianjs/ical.net//NONSGML ical.net 4.0//EN
VERSION:2.0
BEGIN:VTIMEZONE
TZID:Eastern Standard Time
X-LIC-LOCATION:America/New_York
BEGIN:STANDARD
DTSTART:20241103T020000
RRULE:FREQ=YEARLY;BYDAY=1SU;BYMONTH=11
TZNAME:EST
TZOFFSETFROM:-0400
TZOFFSETTO:-0500
END:STANDARD
BEGIN:DAYLIGHT
DTSTART:20250309T020000
RRULE:FREQ=YEARLY;BYDAY=2SU;BYMONTH=3
TZNAME:EDT
TZOFFSETFROM:-0500
TZOFFSETTO:-0400
END:DAYLIGHT
END:VTIMEZONE
BEGIN:VEVENT
DESCRIPTION:2019 Annual Meeting by the American Academy of Neurology\n\nTi
 tle: Residency Program Director Conversation\n\nAccess URL: https://www.a
 an.com/msa/Public/Events/GetEventURL/8943\n\nLearn More About This Event:
  https://www.aan.com/msa/Public/Events/Details/8943
DTEND;TZID=Eastern Standard Time:20190506T090000
DTSTAMP:20260424T053922Z
DTSTART;TZID=Eastern Standard Time:20190506T083000
LOCATION:https://www.aan.com/msa/Public/Events/GetEventURL/8943
SEQUENCE:0
SUMMARY:AAN: Residency Program Director Conversation
UID:b415f9be-36a3-4359-b7b8-e3436def85c8
END:VEVENT
END:VCALENDAR
