BEGIN:VCALENDAR
PRODID:-//github.com/rianjs/ical.net//NONSGML ical.net 4.0//EN
VERSION:2.0
BEGIN:VTIMEZONE
TZID:Eastern Standard Time
X-LIC-LOCATION:America/New_York
BEGIN:STANDARD
DTSTART:20241103T020000
RRULE:FREQ=YEARLY;BYDAY=1SU;BYMONTH=11
TZNAME:EST
TZOFFSETFROM:-0400
TZOFFSETTO:-0500
END:STANDARD
BEGIN:DAYLIGHT
DTSTART:20250309T020000
RRULE:FREQ=YEARLY;BYDAY=2SU;BYMONTH=3
TZNAME:EDT
TZOFFSETFROM:-0500
TZOFFSETTO:-0400
END:DAYLIGHT
END:VTIMEZONE
BEGIN:VEVENT
DESCRIPTION:2019 Annual Meeting by the American Academy of Neurology\n\nTi
 tle: Become an Advocacy Leader: When There's No Seat at the Table\, Make 
 Your Own Table!\n\nAccess URL: https://www.aan.com/msa/Public/Events/GetE
 ventURL/8980\n\nLearn More About This Event: https://www.aan.com/msa/Publ
 ic/Events/Details/8980
DTEND;TZID=Eastern Standard Time:20190509T134500
DTSTAMP:20260424T053951Z
DTSTART;TZID=Eastern Standard Time:20190509T130000
LOCATION:https://www.aan.com/msa/Public/Events/GetEventURL/8980
SEQUENCE:0
SUMMARY:AAN: Become an Advocacy Leader: When There's No Seat at the Table\
 , Make Your Own Table!
UID:59eea5c4-7e8e-44db-bcbc-fb2fd73b263d
END:VEVENT
END:VCALENDAR
