BEGIN:VCALENDAR
PRODID:-//github.com/rianjs/ical.net//NONSGML ical.net 4.0//EN
VERSION:2.0
BEGIN:VTIMEZONE
TZID:Eastern Standard Time
X-LIC-LOCATION:America/New_York
BEGIN:STANDARD
DTSTART:20241103T020000
RRULE:FREQ=YEARLY;BYDAY=1SU;BYMONTH=11
TZNAME:EST
TZOFFSETFROM:-0400
TZOFFSETTO:-0500
END:STANDARD
BEGIN:DAYLIGHT
DTSTART:20250309T020000
RRULE:FREQ=YEARLY;BYDAY=2SU;BYMONTH=3
TZNAME:EDT
TZOFFSETFROM:-0500
TZOFFSETTO:-0400
END:DAYLIGHT
END:VTIMEZONE
BEGIN:VEVENT
DESCRIPTION:2019 Annual Meeting by the American Academy of Neurology\n\nTi
 tle: Wine and Paint\n\nDescription: Take a break and paint a picture with
  imbibements. Come early\; spaces are filled first come\, first served.  
 \n\nLearn More About This Event: https://www.aan.com/msa/Public/Events/De
 tails/9034
DTEND;TZID=Eastern Standard Time:20190507T130000
DTSTAMP:20260424T054003Z
DTSTART;TZID=Eastern Standard Time:20190507T120000
LOCATION:https://www.aan.com/msa/Public/Events/GetEventURL/9034
SEQUENCE:0
SUMMARY:AAN: Wine and Paint
UID:901c719b-35c4-46fa-b4c8-488c544591c5
END:VEVENT
END:VCALENDAR
