BEGIN:VCALENDAR
PRODID:-//github.com/rianjs/ical.net//NONSGML ical.net 4.0//EN
VERSION:2.0
BEGIN:VTIMEZONE
TZID:Eastern Standard Time
X-LIC-LOCATION:America/New_York
BEGIN:STANDARD
DTSTART:20241103T020000
RRULE:FREQ=YEARLY;BYDAY=1SU;BYMONTH=11
TZNAME:EST
TZOFFSETFROM:-0400
TZOFFSETTO:-0500
END:STANDARD
BEGIN:DAYLIGHT
DTSTART:20250309T020000
RRULE:FREQ=YEARLY;BYDAY=2SU;BYMONTH=3
TZNAME:EDT
TZOFFSETFROM:-0500
TZOFFSETTO:-0400
END:DAYLIGHT
END:VTIMEZONE
BEGIN:VEVENT
DESCRIPTION:2019 Annual Meeting by the American Academy of Neurology\n\nTi
 tle: Foos Plating Competition\n\nDescription: We are accepting attendees 
 as participants! Four\nteams of three will get to compete each day. It wi
 ll be\nfirst come\, first served\, so come early if you want to\ncompete!
 \n\nLearn More About This Event: https://www.aan.com/msa/Public/Events/De
 tails/9043
DTEND;TZID=Eastern Standard Time:20190507T124500
DTSTAMP:20260424T054003Z
DTSTART;TZID=Eastern Standard Time:20190507T121500
LOCATION:https://www.aan.com/msa/Public/Events/GetEventURL/9043
SEQUENCE:0
SUMMARY:AAN: Foos Plating Competition
UID:daa7aec6-56db-420d-a5e5-437248182e74
END:VEVENT
END:VCALENDAR
