BEGIN:VCALENDAR
PRODID:-//github.com/rianjs/ical.net//NONSGML ical.net 4.0//EN
VERSION:2.0
BEGIN:VTIMEZONE
TZID:Eastern Standard Time
X-LIC-LOCATION:America/New_York
BEGIN:STANDARD
DTSTART:20241103T020000
RRULE:FREQ=YEARLY;BYDAY=1SU;BYMONTH=11
TZNAME:EST
TZOFFSETFROM:-0400
TZOFFSETTO:-0500
END:STANDARD
BEGIN:DAYLIGHT
DTSTART:20250309T020000
RRULE:FREQ=YEARLY;BYDAY=2SU;BYMONTH=3
TZNAME:EDT
TZOFFSETFROM:-0500
TZOFFSETTO:-0400
END:DAYLIGHT
END:VTIMEZONE
BEGIN:VEVENT
DESCRIPTION:2019 Annual Meeting by the American Academy of Neurology\n\nTi
 tle: The Quality Road Map: Linking Guidelines\, Quality Measures\, and Ax
 on Registry to Improve Care for Your Patients\n\nAccess URL: https://www.
 aan.com/msa/Public/Events/GetEventURL/9047\n\nLearn More About This Event
 : https://www.aan.com/msa/Public/Events/Details/9047
DTEND;TZID=Eastern Standard Time:20190510T154500
DTSTAMP:20260424T053955Z
DTSTART;TZID=Eastern Standard Time:20190510T150000
LOCATION:https://www.aan.com/msa/Public/Events/GetEventURL/9047
SEQUENCE:0
SUMMARY:AAN: The Quality Road Map: Linking Guidelines\, Quality Measures\,
  and Axon Registry to Improve Care for Your Patients
UID:19ef7f17-c3e1-4fb0-8d38-8513ad7b6ec9
END:VEVENT
END:VCALENDAR
